BEGIN:VCALENDAR
VERSION:2.0
PRODID:-//eventon.com NONSGML v1.0//EN
CALSCALE:GREGORIAN
METHOD:PUBLISH
BEGIN:VEVENT
UID:69e5e70dd9488
DTSTAMP:20260420T084253Z
DTSTART:20210619T070000Z
DTEND:20210626T190000Z
LOCATION:
SUMMARY:5k Virtual Run Walk
DESCRIPTION:All employees and their family members are welcome to participa
 te.  Sign up here. Contact Amy Calvin at wellnessevents@utu-mtatrustfund.c
 om for more information on this event.\nhttps://www.smart-mtatrustfund.com/
 events/5k-virtual-run-walk/
URL:https://www.smart-mtatrustfund.com/events/5k-virtual-run-walk/
END:VEVENT
END:VCALENDAR